BEGIN:VCALENDAR
VERSION:2.0
PRODID:-//https://www.messiahofthemountains.org///NONSGML kigkonsult.se iCalcreator 2.10.15//
METHOD:PUBLISH
BEGIN:VEVENT
UID:20260419T150023UTC-5351Tb1xAL@https://www.messiahofthemountains.org/
DTSTAMP:20260419T150023Z
DESCRIPTION:We gather after service the first Sunday of the month for fello
 wship and enjoy the food members have brought to share. https://www.messia
 hofthemountains.org/events/event/692-pot-luck-sunday
DTSTART:20260705T160100Z
DTEND:20260705T180000Z
LOCATION:Messiah Of The Mountains Lutheran Church (3690 US-19E\, Burnsville
 \, NC 28714\, USA)
SUMMARY:Pot luck Sunday
URL:https://www.messiahofthemountains.org/events/event/692-pot-luck-sunday
END:VEVENT
END:VCALENDAR
