BEGIN:VCALENDAR
VERSION:2.0
PRODID:-//https://www.messiahofthemountains.org///NONSGML kigkonsult.se iCalcreator 2.10.15//
METHOD:PUBLISH
BEGIN:VEVENT
UID:20260419T124350UTC-3697kltxUS@https://www.messiahofthemountains.org/
DTSTAMP:20260419T124350Z
DESCRIPTION:Council Meeting: Council members will meet with the Pastor to d
 iscuss business of the church. https://www.messiahofthemountains.org/event
 s/event/687-council-meeting
DTSTART:20261013T140000Z
DTEND:20261013T160000Z
LOCATION:Messiah Of The Mountains Lutheran Church (3690 US-19E\, Burnsville
 \, NC 28714\, USA)
SUMMARY:Council Meeting
URL:https://www.messiahofthemountains.org/events/event/687-council-meeting
END:VEVENT
END:VCALENDAR
