BEGIN:VCALENDAR
VERSION:2.0
PRODID:-//https://www.messiahofthemountains.org///NONSGML kigkonsult.se iCalcreator 2.10.15//
METHOD:PUBLISH
BEGIN:VEVENT
UID:20260419T124022UTC-09327UlUgA@https://www.messiahofthemountains.org/
DTSTAMP:20260419T124022Z
DESCRIPTION:Messiah of the Mountains collects contributions and give to the
  local Feed-A-Child of Yancey County. Please contribute if possible.\nFeed
 -A-Child Yancey County was founded in the Fall of 2007 by Robert and Glend
 a Wyatt to provide healthy snacks for kids who need food over the weekends
 . Volunteers pack and deliver the snacks to the schools that have identifi
 ed children in need. The schools send the bags home with the children on F
 ridays. https://www.messiahofthemountains.org/events/event/668-feed-the-ch
 ildren
DTSTART:20261101T155900Z
DTEND:20261101T160000Z
LOCATION:Messiah Of The Mountains Lutheran Church (3690 US-19E\, Burnsville
 \, NC 28714\, USA)
SUMMARY:Feed the Children
URL:https://www.messiahofthemountains.org/events/event/668-feed-the-childre
 n
END:VEVENT
END:VCALENDAR
