BEGIN:VCALENDAR
VERSION:2.0
PRODID:-//https://www.messiahofthemountains.org///NONSGML kigkonsult.se iCalcreator 2.10.15//
METHOD:PUBLISH
BEGIN:VEVENT
UID:20260419T150610UTC-6682hwPJjM@https://www.messiahofthemountains.org/
DTSTAMP:20260419T150610Z
DESCRIPTION:We gather after service the first Sunday of the month for fello
 wship and enjoy the food members have brought to share. https://www.messia
 hofthemountains.org/events/event/534-soups-bread-and-deserts-refreshments
DTSTART:20250105T170100Z
DTEND:20250105T190000Z
LOCATION:Messiah Of The Mountains Lutheran Church (3690 US-19E\, Burnsville
 \, NC 28714\, USA)
SUMMARY:Soups\, bread and deserts refreshments
URL:https://www.messiahofthemountains.org/events/event/534-soups-bread-and-
 deserts-refreshments
END:VEVENT
END:VCALENDAR
