BEGIN:VCALENDAR
VERSION:2.0
PRODID:-//https://www.messiahofthemountains.org///NONSGML kigkonsult.se iCalcreator 2.10.15//
METHOD:PUBLISH
BEGIN:VEVENT
UID:20260419T124618UTC-4511uk3uT3@https://www.messiahofthemountains.org/
DTSTAMP:20260419T124618Z
DESCRIPTION:Council Meeting: Council members will meet with the Pastor to d
 iscuss business of the church. https://www.messiahofthemountains.org/event
 s/event/394-council-meeting
DTSTART:20230411T150000Z
DTEND:20230411T153000Z
LOCATION:Reconciliation House (20 Academy St\, Burnsville\, NC 28714\, USA)
SUMMARY:Council Meeting
URL:https://www.messiahofthemountains.org/events/event/394-council-meeting
END:VEVENT
END:VCALENDAR
