BEGIN:VCALENDAR
VERSION:2.0
PRODID:-//https://www.messiahofthemountains.org///NONSGML kigkonsult.se iCalcreator 2.10.15//
METHOD:PUBLISH
BEGIN:VEVENT
UID:20260419T125446UTC-4135UToti1@https://www.messiahofthemountains.org/
DTSTAMP:20260419T125446Z
DESCRIPTION:Council Meeting: Council members will meet with the Pastor to d
 iscuss business of the church. https://www.messiahofthemountains.org/event
 s/event/368-council-meeting-cancelled
DTSTART:20230219T140000Z
DTEND:20230219T160000Z
LOCATION:Messiah Of The Mountains Lutheran Church (3690 US-19E\, Burnsville
 \, NC 28714\, USA)
SUMMARY:Council Meeting +++++.Cancelled +++++ 
URL:https://www.messiahofthemountains.org/events/event/368-council-meeting-
 cancelled
END:VEVENT
END:VCALENDAR
