BEGIN:VCALENDAR
VERSION:2.0
PRODID:-//https://www.messiahofthemountains.org///NONSGML kigkonsult.se iCalcreator 2.10.15//
METHOD:PUBLISH
BEGIN:VEVENT
UID:20260419T124556UTC-19120NK2uC@https://www.messiahofthemountains.org/
DTSTAMP:20260419T124556Z
DESCRIPTION:Council Meeting: Council members will meet with the Pastor to d
 iscuss business of the church. https://www.messiahofthemountains.org/event
 s/event/342-council-meeting
DTSTART:20221116T210000Z
DTEND:20221116T230000Z
LOCATION:Reconciliation House (20 Academy St\, Burnsville\, NC 28714\, USA)
SUMMARY:Council Meeting
URL:https://www.messiahofthemountains.org/events/event/342-council-meeting
END:VEVENT
END:VCALENDAR
