BEGIN:VCALENDAR
VERSION:2.0
PRODID:-//https://www.messiahofthemountains.org///NONSGML kigkonsult.se iCalcreator 2.10.15//
METHOD:PUBLISH
BEGIN:VEVENT
UID:20260419T150816UTC-2484UVO8zb@https://www.messiahofthemountains.org/
DTSTAMP:20260419T150816Z
DESCRIPTION: https://www.messiahofthemountains.org/events/event/317-congreg
 ational-meeting-to-discuss-improvements-to-fellowship-hall
DTSTART:20230618T170000Z
DTEND:20230618T173000Z
LOCATION:Messiah Of The Mountains Lutheran Church (3690 US-19E\, Burnsville
 \, NC 28714\, USA)
SUMMARY:Congregational meeting to discuss improvements to Fellowship Hall
URL:https://www.messiahofthemountains.org/events/event/317-congregational-m
 eeting-to-discuss-improvements-to-fellowship-hall
END:VEVENT
END:VCALENDAR
