BEGIN:VCALENDAR
VERSION:2.0
PRODID:-//https://www.messiahofthemountains.org///NONSGML kigkonsult.se iCalcreator 2.10.15//
METHOD:PUBLISH
BEGIN:VEVENT
UID:20260419T124617UTC-2108VLBNvr@https://www.messiahofthemountains.org/
DTSTAMP:20260419T124617Z
DESCRIPTION: https://www.messiahofthemountains.org/events/event/270-council
 -meeting
DTSTART:20220419T140000Z
DTEND:20220419T153000Z
LOCATION:Messiah Of The Mountains Lutheran Church (3690 US-19E\, Burnsville
 \, NC 28714\, USA)
SUMMARY:Council Meeting
URL:https://www.messiahofthemountains.org/events/event/270-council-meeting
END:VEVENT
END:VCALENDAR
