BEGIN:VCALENDAR
VERSION:2.0
PRODID:-//https://www.messiahofthemountains.org///NONSGML kigkonsult.se iCalcreator 2.10.15//
METHOD:PUBLISH
BEGIN:VEVENT
UID:20260419T141011UTC-0470U6xlFD@https://www.messiahofthemountains.org/
DTSTAMP:20260419T141011Z
DESCRIPTION:Our regularly scheduled Sunday Morning worship services from 11
  AM until 12 noon.     Come and join us for a service of lessons and carol
 s.  Enjoy familiar lessons and and carols that we love so much. https://ww
 w.messiahofthemountains.org/events/event/2-sunday-worship-services-11-00-a
 m-service-a-service-of-lessons-and-carols-pastor-steve-ridenhour
DTSTART:20211226T160000Z
DTEND:20211226T170000Z
LOCATION:Messiah Of The Mountains Lutheran Church (3690 US-19E\, Burnsville
 \, NC 28714\, USA)
SUMMARY:Sunday Worship Services 11:00 AM Service  -- A Service of lessons a
 nd carols - Pastor  Steve Ridenhour
URL:https://www.messiahofthemountains.org/events/event/2-sunday-worship-ser
 vices-11-00-am-service-a-service-of-lessons-and-carols-pastor-steve-ridenh
 our
END:VEVENT
END:VCALENDAR
